Workbook

Sheet Leads
A1: Lead ID | B1: Date added | C1: Name | D1: Lead type | E1: Source | F1: Status | G1: Last contact | H1: Next follow-up | I1: Days since contact | J1: Follow-up due? | K1: Est. value ($) | L1: Notes
A2: L-001 | B2: 46307 | C2: Maria Lopez | D2: Buyer | E2: Referral | F2: Viewing booked | G2: 46328 | H2: =IF(OR(F2="Won",F2="Lost"),"",IF(G2="",B2+Summary!$B$5,G2+Summary!$B$5)) -> 46331 | I2: =IF(G2="","",Summary!$B$4-G2) -> 2 | J2: =IF(OR(F2="Won",F2="Lost"),"Closed",IF(H2<=Summary!$B$4,"Follow up now","On track")) -> On track | K2: 9500 | L2: Pre-approved, wants 3 bed
A3: L-002 | B3: 46309 | C3: James Carter | D3: Seller | E3: Past client | F3: Proposal sent | G3: 46325 | H3: =IF(OR(F3="Won",F3="Lost"),"",IF(G3="",B3+Summary!$B$5,G3+Summary!$B$5)) -> 46328 | I3: =IF(G3="","",Summary!$B$4-G3) -> 5 | J3: =IF(OR(F3="Won",F3="Lost"),"Closed",IF(H3<=Summary!$B$4,"Follow up now","On track")) -> Follow up now | K3: 14200 | L3: Listing in spring
A4: L-003 | B4: 46313 | C4: Priya Shah | D4: Buyer | E4: Open house | F4: Contacted | G4: 46324 | H4: =IF(OR(F4="Won",F4="Lost"),"",IF(G4="",B4+Summary!$B$5,G4+Summary!$B$5)) -> 46327 | I4: =IF(G4="","",Summary!$B$4-G4) -> 6 | J4: =IF(OR(F4="Won",F4="Lost"),"Closed",IF(H4<=Summary!$B$4,"Follow up now","On track")) -> Follow up now | K4: 7800 | L4: Asked about schools
A5: L-004 | B5: 46298 | C5: Daniel Brooks | D5: Seller | E5: Referral | F5: Won | G5: 46323 | H5: =IF(OR(F5="Won",F5="Lost"),"",IF(G5="",B5+Summary!$B$5,G5+Summary!$B$5)) | I5: =IF(G5="","",Summary!$B$4-G5) -> 7 | J5: =IF(OR(F5="Won",F5="Lost"),"Closed",IF(H5<=Summary!$B$4,"Follow up now","On track")) -> Closed | K5: 12800 | L5: Signed listing agreement
A6: L-005 | B6: 46325 | C6: Hannah Kim | D6: Buyer | E6: Website | F6: New | H6: =IF(OR(F6="Won",F6="Lost"),"",IF(G6="",B6+Summary!$B$5,G6+Summary!$B$5)) -> 46328 | I6: =IF(G6="","",Summary!$B$4-G6) | J6: =IF(OR(F6="Won",F6="Lost"),"Closed",IF(H6<=Summary!$B$4,"Follow up now","On track")) -> Follow up now | K6: 6400 | L6: Form fill, no call yet
A7: L-006 | B7: 46315 | C7: Tom Reyes | D7: Investor | E7: Direct outreach | F7: Contacted | G7: 46329 | H7: =IF(OR(F7="Won",F7="Lost"),"",IF(G7="",B7+Summary!$B$5,G7+Summary!$B$5)) -> 46332 | I7: =IF(G7="","",Summary!$B$4-G7) -> 1 | J7: =IF(OR(F7="Won",F7="Lost"),"Closed",IF(H7<=Summary!$B$4,"Follow up now","On track")) -> On track | K7: 18500 | L7: Looking at duplexes
A8: L-007 | B8: 46317 | C8: Sarah Nguyen | D8: Buyer | E8: Agent referral | F8: Viewing booked | G8: 46327 | H8: =IF(OR(F8="Won",F8="Lost"),"",IF(G8="",B8+Summary!$B$5,G8+Summary!$B$5)) -> 46330 | I8: =IF(G8="","",Summary!$B$4-G8) -> 3 | J8: =IF(OR(F8="Won",F8="Lost"),"Closed",IF(H8<=Summary!$B$4,"Follow up now","On track")) -> Follow up now | K8: 8900 | L8: Weekend viewing
A9: L-008 | B9: 46304 | C9: Mark Ellis | D9: Seller | E9: Referral | F9: Proposal sent | G9: 46321 | H9: =IF(OR(F9="Won",F9="Lost"),"",IF(G9="",B9+Summary!$B$5,G9+Summary!$B$5)) -> 46324 | I9: =IF(G9="","",Summary!$B$4-G9) -> 9 | J9: =IF(OR(F9="Won",F9="Lost"),"Closed",IF(H9<=Summary!$B$4,"Follow up now","On track")) -> Follow up now | K9: 13600 | L9: Comparing two agents
A10: L-009 | B10: 46300 | C10: Aisha Khan | D10: Buyer | E10: Open house | F10: Lost | G10: 46314 | H10: =IF(OR(F10="Won",F10="Lost"),"",IF(G10="",B10+Summary!$B$5,G10+Summary!$B$5)) | I10: =IF(G10="","",Summary!$B$4-G10) -> 16 | J10: =IF(OR(F10="Won",F10="Lost"),"Closed",IF(H10<=Summary!$B$4,"Follow up now","On track")) -> Closed | K10: 0 | L10: Bought elsewhere
A11: L-010 | B11: 46293 | C11: Chris Patel | D11: Investor | E11: Past client | F11: Won | G11: 46322 | H11: =IF(OR(F11="Won",F11="Lost"),"",IF(G11="",B11+Summary!$B$5,G11+Summary!$B$5)) | I11: =IF(G11="","",Summary!$B$4-G11) -> 8 | J11: =IF(OR(F11="Won",F11="Lost"),"Closed",IF(H11<=Summary!$B$4,"Follow up now","On track")) -> Closed | K11: 16200 | L11: Closed on a fourplex
A12: L-011 | B12: 46322 | C12: Olivia Scott | D12: Buyer | E12: Website | F12: Contacted | G12: 46328 | H12: =IF(OR(F12="Won",F12="Lost"),"",IF(G12="",B12+Summary!$B$5,G12+Summary!$B$5)) -> 46331 | I12: =IF(G12="","",Summary!$B$4-G12) -> 2 | J12: =IF(OR(F12="Won",F12="Lost"),"Closed",IF(H12<=Summary!$B$4,"Follow up now","On track")) -> On track | K12: 7200 | L12: First-time buyer
A13: L-012 | B13: 46327 | C13: Ben Turner | D13: Seller | E13: Direct outreach | F13: New | H13: =IF(OR(F13="Won",F13="Lost"),"",IF(G13="",B13+Summary!$B$5,G13+Summary!$B$5)) -> 46330 | I13: =IF(G13="","",Summary!$B$4-G13) | J13: =IF(OR(F13="Won",F13="Lost"),"Closed",IF(H13<=Summary!$B$4,"Follow up now","On track")) -> Follow up now | K13: 11000 | L13: Letter sent, awaiting reply

Sheet Summary
A1: Lead Tracker Summary
A2: =HYPERLINK("#'Leads'!A1","Go to Leads sheet") -> Go to Leads sheet | D2: =HYPERLINK("#'How to use'!A1","How to use") -> How to use
A4: As-of date (type today) | B4: 46330
A5: Follow up every (days) | B5: 3
A7: Leads by status | E7: Leads by source
A8: Status | B8: Leads | C8: Est. value ($) | E8: Source | F8: Leads | G8: Won
A9: New | B9: =COUNTIF(Leads!$F$2:$F$200,A9) -> 2 | C9: =SUMIF(Leads!$F$2:$F$200,A9,Leads!$K$2:$K$200) -> 17400 | E9: Referral | F9: =COUNTIF(Leads!$E$2:$E$200,E9) -> 3 | G9: =COUNTIFS(Leads!$E$2:$E$200,E9,Leads!$F$2:$F$200,"Won") -> 1
A10: Contacted | B10: =COUNTIF(Leads!$F$2:$F$200,A10) -> 3 | C10: =SUMIF(Leads!$F$2:$F$200,A10,Leads!$K$2:$K$200) -> 33500 | E10: Past client | F10: =COUNTIF(Leads!$E$2:$E$200,E10) -> 2 | G10: =COUNTIFS(Leads!$E$2:$E$200,E10,Leads!$F$2:$F$200,"Won") -> 1
A11: Viewing booked | B11: =COUNTIF(Leads!$F$2:$F$200,A11) -> 2 | C11: =SUMIF(Leads!$F$2:$F$200,A11,Leads!$K$2:$K$200) -> 18400 | E11: Open house | F11: =COUNTIF(Leads!$E$2:$E$200,E11) -> 2 | G11: =COUNTIFS(Leads!$E$2:$E$200,E11,Leads!$F$2:$F$200,"Won") -> 0
A12: Proposal sent | B12: =COUNTIF(Leads!$F$2:$F$200,A12) -> 2 | C12: =SUMIF(Leads!$F$2:$F$200,A12,Leads!$K$2:$K$200) -> 27800 | E12: Website | F12: =COUNTIF(Leads!$E$2:$E$200,E12) -> 2 | G12: =COUNTIFS(Leads!$E$2:$E$200,E12,Leads!$F$2:$F$200,"Won") -> 0
A13: Won | B13: =COUNTIF(Leads!$F$2:$F$200,A13) -> 2 | C13: =SUMIF(Leads!$F$2:$F$200,A13,Leads!$K$2:$K$200) -> 29000 | E13: Agent referral | F13: =COUNTIF(Leads!$E$2:$E$200,E13) -> 1 | G13: =COUNTIFS(Leads!$E$2:$E$200,E13,Leads!$F$2:$F$200,"Won") -> 0
A14: Lost | B14: =COUNTIF(Leads!$F$2:$F$200,A14) -> 1 | C14: =SUMIF(Leads!$F$2:$F$200,A14,Leads!$K$2:$K$200) -> 0 | E14: Direct outreach | F14: =COUNTIF(Leads!$E$2:$E$200,E14) -> 2 | G14: =COUNTIFS(Leads!$E$2:$E$200,E14,Leads!$F$2:$F$200,"Won") -> 0
A15: Total | B15: =SUM(B9:B14) -> 12 | C15: =SUM(C9:C14) -> 126100
A17: Win rate (won / closed) | B17: =IF(B13+B14=0,0,B13/(B13+B14)) -> 0.66666667
A18: Follow-ups due now | B18: =COUNTIF(Leads!$J$2:$J$200,"Follow up now") -> 6
A19: Open pipeline value ($) | B19: =SUM(C9:C12) -> 97100

Sheet How to use
A1: How to use this Lead Tracker
A2: =HYPERLINK("#'Leads'!A1","Go to Leads sheet") -> Go to Leads sheet
A4: 1. Blue cells are yours to edit. Black cells are formulas, leave them alone.
A5: 2. Add one row per lead on the Leads sheet. Pick Source and Status from the drop-downs.
A6: 3. Type the date of your last call, email or text in Last contact.
A7: 4. Change the as-of date and follow-up gap on the Summary sheet (yellow cells).
A8: 5. Rows that say "Follow up now" are overdue. Contact them first.
A9: 6. The 12 rows shown are sample data. Delete them and type your own.
A10: Formulas cover rows 2 to 200. Copy the last row down to add more.
