Workbook

Sheet Tasks
A1: Project Tracker Template
A2: Track tasks, owners, dates and progress. Overdue tasks are flagged automatically.
A3: Today | B3: =TODAY() | E3: =HYPERLINK("#'Summary'!A1","Go to Summary")
A5: Task | B5: Owner | C5: Status | D5: Priority | E5: Start | F5: Due | G5: % complete | H5: Days left | I5: Flag
A6: Kickoff meeting | B6: Ana | C6: Done | D6: High | E6: 46300 | F6: 46302 | G6: 1 | H6: =IF(OR(A6="",F6=""),"",IF(C6="Done","",F6-$B$3)) | I6: =IF(A6="","",IF(C6="Done","Done",IF(F6<$B$3,"OVERDUE",IF(F6-$B$3<=3,"Due soon","On track"))))
A7: Requirements doc | B7: Ben | C7: Done | D7: High | E7: 46302 | F7: 46309 | G7: 1 | H7: =IF(OR(A7="",F7=""),"",IF(C7="Done","",F7-$B$3)) | I7: =IF(A7="","",IF(C7="Done","Done",IF(F7<$B$3,"OVERDUE",IF(F7-$B$3<=3,"Due soon","On track"))))
A8: Design mockups | B8: Cara | C8: In progress | D8: High | E8: 46310 | F8: 46329 | G8: 0.6 | H8: =IF(OR(A8="",F8=""),"",IF(C8="Done","",F8-$B$3)) | I8: =IF(A8="","",IF(C8="Done","Done",IF(F8<$B$3,"OVERDUE",IF(F8-$B$3<=3,"Due soon","On track"))))
A9: Build prototype | B9: Ben | C9: In progress | D9: Medium | E9: 46316 | F9: 46340 | G9: 0.3 | H9: =IF(OR(A9="",F9=""),"",IF(C9="Done","",F9-$B$3)) | I9: =IF(A9="","",IF(C9="Done","Done",IF(F9<$B$3,"OVERDUE",IF(F9-$B$3<=3,"Due soon","On track"))))
A10: User testing | B10: Ana | C10: Not started | D10: Medium | E10: 46338 | F10: 46348 | G10: 0 | H10: =IF(OR(A10="",F10=""),"",IF(C10="Done","",F10-$B$3)) | I10: =IF(A10="","",IF(C10="Done","Done",IF(F10<$B$3,"OVERDUE",IF(F10-$B$3<=3,"Due soon","On track"))))
A11: Launch plan | B11: Cara | C11: Not started | D11: Low | E11: 46342 | F11: 46355 | G11: 0 | H11: =IF(OR(A11="",F11=""),"",IF(C11="Done","",F11-$B$3)) | I11: =IF(A11="","",IF(C11="Done","Done",IF(F11<$B$3,"OVERDUE",IF(F11-$B$3<=3,"Due soon","On track"))))
A12: Go live | B12: Ben | C12: Not started | D12: High | E12: 46358 | F12: 46362 | G12: 0 | H12: =IF(OR(A12="",F12=""),"",IF(C12="Done","",F12-$B$3)) | I12: =IF(A12="","",IF(C12="Done","Done",IF(F12<$B$3,"OVERDUE",IF(F12-$B$3<=3,"Due soon","On track"))))
H13: =IF(OR(A13="",F13=""),"",IF(C13="Done","",F13-$B$3)) | I13: =IF(A13="","",IF(C13="Done","Done",IF(F13<$B$3,"OVERDUE",IF(F13-$B$3<=3,"Due soon","On track"))))
H14: =IF(OR(A14="",F14=""),"",IF(C14="Done","",F14-$B$3)) | I14: =IF(A14="","",IF(C14="Done","Done",IF(F14<$B$3,"OVERDUE",IF(F14-$B$3<=3,"Due soon","On track"))))
H15: =IF(OR(A15="",F15=""),"",IF(C15="Done","",F15-$B$3)) | I15: =IF(A15="","",IF(C15="Done","Done",IF(F15<$B$3,"OVERDUE",IF(F15-$B$3<=3,"Due soon","On track"))))
H16: =IF(OR(A16="",F16=""),"",IF(C16="Done","",F16-$B$3)) | I16: =IF(A16="","",IF(C16="Done","Done",IF(F16<$B$3,"OVERDUE",IF(F16-$B$3<=3,"Due soon","On track"))))
H17: =IF(OR(A17="",F17=""),"",IF(C17="Done","",F17-$B$3)) | I17: =IF(A17="","",IF(C17="Done","Done",IF(F17<$B$3,"OVERDUE",IF(F17-$B$3<=3,"Due soon","On track"))))
H18: =IF(OR(A18="",F18=""),"",IF(C18="Done","",F18-$B$3)) | I18: =IF(A18="","",IF(C18="Done","Done",IF(F18<$B$3,"OVERDUE",IF(F18-$B$3<=3,"Due soon","On track"))))
H19: =IF(OR(A19="",F19=""),"",IF(C19="Done","",F19-$B$3)) | I19: =IF(A19="","",IF(C19="Done","Done",IF(F19<$B$3,"OVERDUE",IF(F19-$B$3<=3,"Due soon","On track"))))
H20: =IF(OR(A20="",F20=""),"",IF(C20="Done","",F20-$B$3)) | I20: =IF(A20="","",IF(C20="Done","Done",IF(F20<$B$3,"OVERDUE",IF(F20-$B$3<=3,"Due soon","On track"))))
H21: =IF(OR(A21="",F21=""),"",IF(C21="Done","",F21-$B$3)) | I21: =IF(A21="","",IF(C21="Done","Done",IF(F21<$B$3,"OVERDUE",IF(F21-$B$3<=3,"Due soon","On track"))))
H22: =IF(OR(A22="",F22=""),"",IF(C22="Done","",F22-$B$3)) | I22: =IF(A22="","",IF(C22="Done","Done",IF(F22<$B$3,"OVERDUE",IF(F22-$B$3<=3,"Due soon","On track"))))
H23: =IF(OR(A23="",F23=""),"",IF(C23="Done","",F23-$B$3)) | I23: =IF(A23="","",IF(C23="Done","Done",IF(F23<$B$3,"OVERDUE",IF(F23-$B$3<=3,"Due soon","On track"))))
H24: =IF(OR(A24="",F24=""),"",IF(C24="Done","",F24-$B$3)) | I24: =IF(A24="","",IF(C24="Done","Done",IF(F24<$B$3,"OVERDUE",IF(F24-$B$3<=3,"Due soon","On track"))))
... H105: =IF(OR(A105="",F105=""),"",IF(C105="Done","",F105-$B$3)) | I105: =IF(A105="","",IF(C105="Done","Done",IF(F105<$B$3,"OVERDUE",IF(F105-$B$3<=3,"Due soon","On track"))))
A108: Free template by Softotech Solutions (softotech.net). For educational and general use only, not financial or legal advice.

Sheet Summary
A1: Project Summary
A2: Counts update from the Tasks sheet.
C3: =HYPERLINK("#'Tasks'!A1","Go to Tasks")
A4: Measure | B4: Value
A5: Total tasks | B5: =COUNTA(Tasks!A6:A105)
A6: Done | B6: =COUNTIF(Tasks!C6:C105,"Done")
A7: In progress | B7: =COUNTIF(Tasks!C6:C105,"In progress")
A8: Not started | B8: =COUNTIF(Tasks!C6:C105,"Not started")
A9: On hold | B9: =COUNTIF(Tasks!C6:C105,"On hold")
A10: Overdue | B10: =COUNTIF(Tasks!I6:I105,"OVERDUE")
A11: Average % complete | B11: =IFERROR(AVERAGE(Tasks!G6:G105),0)
A14: Free template by Softotech Solutions (softotech.net). For educational and general use only, not financial or legal advice.

Sheet Read me
A1: Project Tracker Template
A3: 1. List tasks with owner, start and due dates and percent complete.
A4: 2. Choose status and priority from the drop-downs.
A5: 3. Days left and the flag (OVERDUE, Due soon, On track) update daily.
A6: 4. The Summary sheet counts tasks by status and averages progress.
A7: 5. Sample project included. Overwrite it.
A9: Colour key: yellow cells = type your own numbers or text | green cells = calculated automatically (do not overwrite)
A11: Free template by Softotech Solutions (softotech.net). For educational and general use only, not financial or legal advice.
