Workbook

Sheet Dashboard
A1: Sales Dashboard
A2: Reads the Data sheet. Everything here is formulas, so it updates when you add rows.
K3: =HYPERLINK("#'Data'!A1","Go to Data")
A4: Total revenue ($) | D4: Total units | G4: Average order value ($) | J4: Top region
A5: =SUM(Data!F5:F504) | D5: =SUM(Data!D5:D504) | G5: =IF(G6=0,0,A5/G6) | J5: =INDEX(A9:A12,MATCH(MAX(B9:B12),B9:B12,0))
F6: orders: | G6: =COUNT(Data!D5:D504)
A8: Region | B8: Revenue ($) | C8: Share | E8: Product | F8: Revenue ($) | G8: Units
A9: North | B9: =SUMIF(Data!$B$5:$B$504,A9,Data!$F$5:$F$504) | C9: =IF($A$5=0,0,B9/$A$5) | E9: Basic plan | F9: =SUMIF(Data!$C$5:$C$504,E9,Data!$F$5:$F$504) | G9: =SUMIF(Data!$C$5:$C$504,E9,Data!$D$5:$D$504)
A10: South | B10: =SUMIF(Data!$B$5:$B$504,A10,Data!$F$5:$F$504) | C10: =IF($A$5=0,0,B10/$A$5) | E10: Pro plan | F10: =SUMIF(Data!$C$5:$C$504,E10,Data!$F$5:$F$504) | G10: =SUMIF(Data!$C$5:$C$504,E10,Data!$D$5:$D$504)
A11: East | B11: =SUMIF(Data!$B$5:$B$504,A11,Data!$F$5:$F$504) | C11: =IF($A$5=0,0,B11/$A$5) | E11: Team plan | F11: =SUMIF(Data!$C$5:$C$504,E11,Data!$F$5:$F$504) | G11: =SUMIF(Data!$C$5:$C$504,E11,Data!$D$5:$D$504)
A12: West | B12: =SUMIF(Data!$B$5:$B$504,A12,Data!$F$5:$F$504) | C12: =IF($A$5=0,0,B12/$A$5) | E12: Add-on pack | F12: =SUMIF(Data!$C$5:$C$504,E12,Data!$F$5:$F$504) | G12: =SUMIF(Data!$C$5:$C$504,E12,Data!$D$5:$D$504)
A15: Month | B15: Revenue ($)
A16: Jan | B16: =SUMIF(Data!$G$5:$G$504,1,Data!$F$5:$F$504)
A17: Feb | B17: =SUMIF(Data!$G$5:$G$504,2,Data!$F$5:$F$504)
A18: Mar | B18: =SUMIF(Data!$G$5:$G$504,3,Data!$F$5:$F$504)
A19: Apr | B19: =SUMIF(Data!$G$5:$G$504,4,Data!$F$5:$F$504)
A20: May | B20: =SUMIF(Data!$G$5:$G$504,5,Data!$F$5:$F$504)
A21: Jun | B21: =SUMIF(Data!$G$5:$G$504,6,Data!$F$5:$F$504)
A22: Jul | B22: =SUMIF(Data!$G$5:$G$504,7,Data!$F$5:$F$504)
A23: Aug | B23: =SUMIF(Data!$G$5:$G$504,8,Data!$F$5:$F$504)
A24: Sep | B24: =SUMIF(Data!$G$5:$G$504,9,Data!$F$5:$F$504)
A25: Oct | B25: =SUMIF(Data!$G$5:$G$504,10,Data!$F$5:$F$504)
A26: Nov | B26: =SUMIF(Data!$G$5:$G$504,11,Data!$F$5:$F$504)
A27: Dec | B27: =SUMIF(Data!$G$5:$G$504,12,Data!$F$5:$F$504)
A32: Free template by Softotech Solutions (softotech.net). For educational and general use only, not financial or legal advice.

Sheet Data
A1: Sales Data
A2: Add your rows here. The Dashboard reads this sheet. Revenue = units x price.
F3: =HYPERLINK("#'Dashboard'!A1","Go to Dashboard")
A4: Date | B4: Region | C4: Product | D4: Units | E4: Unit price ($) | F4: Revenue ($) | G4: Month
A5: 46023 | B5: West | C5: Add-on pack | D5: 8 | E5: 15 | F5: =IF(OR(D5="",E5=""),"",D5*E5) | G5: =IF(A5="","",MONTH(A5))
A6: 46025 | B6: South | C6: Pro plan | D6: 9 | E6: 79 | F6: =IF(OR(D6="",E6=""),"",D6*E6) | G6: =IF(A6="","",MONTH(A6))
A7: 46028 | B7: West | C7: Pro plan | D7: 2 | E7: 79 | F7: =IF(OR(D7="",E7=""),"",D7*E7) | G7: =IF(A7="","",MONTH(A7))
A8: 46031 | B8: West | C8: Team plan | D8: 3 | E8: 199 | F8: =IF(OR(D8="",E8=""),"",D8*E8) | G8: =IF(A8="","",MONTH(A8))
A9: 46034 | B9: North | C9: Basic plan | D9: 10 | E9: 29 | F9: =IF(OR(D9="",E9=""),"",D9*E9) | G9: =IF(A9="","",MONTH(A9))
A10: 46037 | B10: West | C10: Add-on pack | D10: 11 | E10: 15 | F10: =IF(OR(D10="",E10=""),"",D10*E10) | G10: =IF(A10="","",MONTH(A10))
A11: 46040 | B11: South | C11: Basic plan | D11: 9 | E11: 29 | F11: =IF(OR(D11="",E11=""),"",D11*E11) | G11: =IF(A11="","",MONTH(A11))
A12: 46043 | B12: North | C12: Basic plan | D12: 1 | E12: 29 | F12: =IF(OR(D12="",E12=""),"",D12*E12) | G12: =IF(A12="","",MONTH(A12))
A13: 46046 | B13: South | C13: Pro plan | D13: 10 | E13: 79 | F13: =IF(OR(D13="",E13=""),"",D13*E13) | G13: =IF(A13="","",MONTH(A13))
A14: 46049 | B14: North | C14: Add-on pack | D14: 6 | E14: 15 | F14: =IF(OR(D14="",E14=""),"",D14*E14) | G14: =IF(A14="","",MONTH(A14))
A15: 46052 | B15: West | C15: Pro plan | D15: 9 | E15: 79 | F15: =IF(OR(D15="",E15=""),"",D15*E15) | G15: =IF(A15="","",MONTH(A15))
A16: 46054 | B16: South | C16: Team plan | D16: 8 | E16: 199 | F16: =IF(OR(D16="",E16=""),"",D16*E16) | G16: =IF(A16="","",MONTH(A16))
... A124: 46368 | B124: North | C124: Basic plan | D124: 8 | E124: 29 | F124: =IF(OR(D124="",E124=""),"",D124*E124) | G124: =IF(A124="","",MONTH(A124))
F125: =IF(OR(D125="",E125=""),"",D125*E125) | G125: =IF(A125="","",MONTH(A125))
F126: =IF(OR(D126="",E126=""),"",D126*E126) | G126: =IF(A126="","",MONTH(A126))
F127: =IF(OR(D127="",E127=""),"",D127*E127) | G127: =IF(A127="","",MONTH(A127))
F128: =IF(OR(D128="",E128=""),"",D128*E128) | G128: =IF(A128="","",MONTH(A128))
F129: =IF(OR(D129="",E129=""),"",D129*E129) | G129: =IF(A129="","",MONTH(A129))
F130: =IF(OR(D130="",E130=""),"",D130*E130) | G130: =IF(A130="","",MONTH(A130))
F131: =IF(OR(D131="",E131=""),"",D131*E131) | G131: =IF(A131="","",MONTH(A131))
F132: =IF(OR(D132="",E132=""),"",D132*E132) | G132: =IF(A132="","",MONTH(A132))
F133: =IF(OR(D133="",E133=""),"",D133*E133) | G133: =IF(A133="","",MONTH(A133))
F134: =IF(OR(D134="",E134=""),"",D134*E134) | G134: =IF(A134="","",MONTH(A134))
F135: =IF(OR(D135="",E135=""),"",D135*E135) | G135: =IF(A135="","",MONTH(A135))
F136: =IF(OR(D136="",E136=""),"",D136*E136) | G136: =IF(A136="","",MONTH(A136))
... F504: =IF(OR(D504="",E504=""),"",D504*E504) | G504: =IF(A504="","",MONTH(A504))
A507: Free template by Softotech Solutions (softotech.net). For educational and general use only, not financial or legal advice.

Sheet Read me
A1: Excel Sales Dashboard Template
A3: 1. Paste or type your sales rows into the Data sheet (date, region, product, units, unit price). Revenue and month calculate automatically.
A4: 2. The Dashboard sheet shows total revenue, units, orders, average order value, top region, revenue by region and product and monthly revenue with charts.
A5: 3. To use your own regions or products, type your names into the Dashboard tables (columns A and E).
A6: 4. Sample data for 2026 is included. Overwrite it.
A8: Colour key: yellow cells = type your own numbers or text | green cells = calculated automatically (do not overwrite)
A10: Free template by Softotech Solutions (softotech.net). For educational and general use only, not financial or legal advice.
